BEGIN:VCALENDAR
VERSION:2.0
CALSCALE:GREGORIAN
PRODID:-//Diputació de Barcelona//DibaCMS//EN
BEGIN:VEVENT
UID:1367
DTSTAMP:20260420T100701
DTSTART:20230904T000100
DTEND:20230904T235900
SUMMARY:Festa local
LOCATION:
METHOD:PUBLISH
X-WR-CALNAME:st.sadurnio@diba.cat
X-WR-TIMEZONE:Europe/Madrid
DESCRIPTION:
URI:https://www.santsadurnidosormort.cat/actualitat/agenda/1367-festa-local.html
CLASS:PUBLIC
END:VEVENT
END:VCALENDAR
