BEGIN:VCALENDAR
VERSION:2.0
CALSCALE:GREGORIAN
PRODID:-//Diputació de Barcelona//DibaCMS//EN
BEGIN:VEVENT
UID:1407
DTSTAMP:20260421T104051
DTSTART:20250522T000000
DTEND:20250522T000000
SUMMARY:Horaris BiblioBús
LOCATION:
METHOD:PUBLISH
X-WR-CALNAME:st.sadurnio@diba.cat
X-WR-TIMEZONE:Europe/Madrid
DESCRIPTION:
URI:https://www.santsadurnidosormort.cat/actualitat/agenda/horaris-bibliobus.html
CLASS:PUBLIC
END:VEVENT
END:VCALENDAR
